BEGIN:VCALENDAR
VERSION:2.0
PRODID:-//Vereinsring Adelsberg e.V. - ECPv6.15.20//NONSGML v1.0//EN
CALSCALE:GREGORIAN
METHOD:PUBLISH
X-ORIGINAL-URL:https://vereinsring-adelsberg.de
X-WR-CALDESC:Veranstaltungen für Vereinsring Adelsberg e.V.
REFRESH-INTERVAL;VALUE=DURATION:PT1H
X-Robots-Tag:noindex
X-PUBLISHED-TTL:PT1H
BEGIN:VTIMEZONE
TZID:Europe/Berlin
BEGIN:DAYLIGHT
TZOFFSETFROM:+0100
TZOFFSETTO:+0200
TZNAME:CEST
DTSTART:20250330T010000
END:DAYLIGHT
BEGIN:STANDARD
TZOFFSETFROM:+0200
TZOFFSETTO:+0100
TZNAME:CET
DTSTART:20251026T010000
END:STANDARD
BEGIN:DAYLIGHT
TZOFFSETFROM:+0100
TZOFFSETTO:+0200
TZNAME:CEST
DTSTART:20260329T010000
END:DAYLIGHT
BEGIN:STANDARD
TZOFFSETFROM:+0200
TZOFFSETTO:+0100
TZNAME:CET
DTSTART:20261025T010000
END:STANDARD
BEGIN:DAYLIGHT
TZOFFSETFROM:+0100
TZOFFSETTO:+0200
TZNAME:CEST
DTSTART:20270328T010000
END:DAYLIGHT
BEGIN:STANDARD
TZOFFSETFROM:+0200
TZOFFSETTO:+0100
TZNAME:CET
DTSTART:20271031T010000
END:STANDARD
END:VTIMEZONE
BEGIN:VEVENT
DTSTART;VALUE=DATE:20261003
DTEND;VALUE=DATE:20261004
DTSTAMP:20260424T141504
CREATED:20260107T130512Z
LAST-MODIFIED:20260107T130512Z
UID:6539-1790985600-1791071999@vereinsring-adelsberg.de
SUMMARY:Weinfest 2026
DESCRIPTION:Weinfest Adelsberg 2026 in der Adolphsbühlhalle \nmit Kaffeebar\, Blasmusik\, Speisen und Getränken
URL:https://vereinsring-adelsberg.de/termin/weinfest-2026/
LOCATION:Adolphsbühlhalle\, Adolphsbühlstraße 60\, Gemünden am Main\, Bayern\, 97737\, Deutschland
ORGANIZER;CN="Vereinsring Adelsberg e.V.":MAILTO:vereinsring-adelsberg-ev@t-online.de
END:VEVENT
END:VCALENDAR